BEGIN:VCALENDAR
VERSION:2.0
PRODID:-//Schutterij Onderling Genoegen - ECPv6.15.20//NONSGML v1.0//EN
CALSCALE:GREGORIAN
METHOD:PUBLISH
X-ORIGINAL-URL:https://ogduiven.nl
X-WR-CALDESC:Evenementen voor Schutterij Onderling Genoegen
REFRESH-INTERVAL;VALUE=DURATION:PT1H
X-Robots-Tag:noindex
X-PUBLISHED-TTL:PT1H
BEGIN:VTIMEZONE
TZID:Europe/Amsterdam
BEGIN:DAYLIGHT
TZOFFSETFROM:+0100
TZOFFSETTO:+0200
TZNAME:CEST
DTSTART:20210328T010000
END:DAYLIGHT
BEGIN:STANDARD
TZOFFSETFROM:+0200
TZOFFSETTO:+0100
TZNAME:CET
DTSTART:20211031T010000
END:STANDARD
BEGIN:DAYLIGHT
TZOFFSETFROM:+0100
TZOFFSETTO:+0200
TZNAME:CEST
DTSTART:20220327T010000
END:DAYLIGHT
BEGIN:STANDARD
TZOFFSETFROM:+0200
TZOFFSETTO:+0100
TZNAME:CET
DTSTART:20221030T010000
END:STANDARD
BEGIN:DAYLIGHT
TZOFFSETFROM:+0100
TZOFFSETTO:+0200
TZNAME:CEST
DTSTART:20230326T010000
END:DAYLIGHT
BEGIN:STANDARD
TZOFFSETFROM:+0200
TZOFFSETTO:+0100
TZNAME:CET
DTSTART:20231029T010000
END:STANDARD
END:VTIMEZONE
BEGIN:VEVENT
DTSTART;VALUE=DATE:20220710
DTEND;VALUE=DATE:20220711
DTSTAMP:20260422T205223
CREATED:20220203T121251Z
LAST-MODIFIED:20220617T091835Z
UID:3179-1657411200-1657497599@ogduiven.nl
SUMMARY:Koning der Koningschieten
DESCRIPTION:Het programma van de dag ziet er als volgt uit: \n08.45 uur: Verzamelen van de geuniformeerde schutterij op het Remigiusplein\n09:00 uur: We gaan samen naar het Gemünden am Main Park voor het maken van groepsfoto’s\n10:00 uur: Houten geweerschutters verzamelen op het Remigiusplein\nWe zouden het geweldig vinden als de schutters\, zoals tijdens de kermisdagen\, in grote getale met de houten geweren deelnemen aan de optocht.\n10:20 uur: Houten geweerschutters vertrekken in optocht vanaf het Remigiusplein en sluiten aan bij de geuniformeerde schutterij nabij het Gemünden am Main Park\n10.40 uur: Gezamenlijke optocht naar de Koning der Koningen\, Toon Verschore\n11.00 uur: Kort programma bij de Koning der Koningen aan de Wilhelminastraat\n11.00 uur: Zaal open (OGtent)\n11:00 uur: Ontvangst van de oud-koningen met gevolg in “Bij de schutters”\n11:30 uur: De schutterij trekt de OGtent binnen \nAansluitend:\nStart van de feestmiddag “kleintje kermis” met het orkest Jersey.\n12:00 uur: Oud-koningen gaan naar de schietboom en maken groepsfoto\n12.30 uur: Aanvang Koning der Koningen schieten\n14.00 uur: Huldiging nieuwe Koning der Koningen\n17.00 uur: Einde feestmiddag
URL:https://ogduiven.nl/evenementen/koning-der-koningschieten/
CATEGORIES:concours,kermis
END:VEVENT
END:VCALENDAR