BEGIN:VCALENDAR
VERSION:2.0
PRODID:-//Schutterij Onderling Genoegen - ECPv6.15.20//NONSGML v1.0//EN
CALSCALE:GREGORIAN
METHOD:PUBLISH
X-ORIGINAL-URL:https://ogduiven.nl
X-WR-CALDESC:Evenementen voor Schutterij Onderling Genoegen
REFRESH-INTERVAL;VALUE=DURATION:PT1H
X-Robots-Tag:noindex
X-PUBLISHED-TTL:PT1H
BEGIN:VTIMEZONE
TZID:Europe/Amsterdam
BEGIN:DAYLIGHT
TZOFFSETFROM:+0100
TZOFFSETTO:+0200
TZNAME:CEST
DTSTART:20210328T010000
END:DAYLIGHT
BEGIN:STANDARD
TZOFFSETFROM:+0200
TZOFFSETTO:+0100
TZNAME:CET
DTSTART:20211031T010000
END:STANDARD
BEGIN:DAYLIGHT
TZOFFSETFROM:+0100
TZOFFSETTO:+0200
TZNAME:CEST
DTSTART:20220327T010000
END:DAYLIGHT
BEGIN:STANDARD
TZOFFSETFROM:+0200
TZOFFSETTO:+0100
TZNAME:CET
DTSTART:20221030T010000
END:STANDARD
BEGIN:DAYLIGHT
TZOFFSETFROM:+0100
TZOFFSETTO:+0200
TZNAME:CEST
DTSTART:20230326T010000
END:DAYLIGHT
BEGIN:STANDARD
TZOFFSETFROM:+0200
TZOFFSETTO:+0100
TZNAME:CET
DTSTART:20231029T010000
END:STANDARD
END:VTIMEZONE
BEGIN:VEVENT
DTSTART;TZID=Europe/Amsterdam:20220414T200000
DTEND;TZID=Europe/Amsterdam:20220414T223000
DTSTAMP:20260423T233624
CREATED:20220203T120247Z
LAST-MODIFIED:20220323T204518Z
UID:3159-1649966400-1649975400@ogduiven.nl
SUMMARY:Algemene ledenvergadering
DESCRIPTION:Leden\, jeugdleden\, en (ouders van) aspirant-leden van schutterij Onderling Genoegen\, \n \nHierbij nodig ik u uit voor de algemene ledenvergadering van onze schutterij die wordt gehouden op donderdag 14 april 2022 om 20.00 uur in de OGtent te Duiven.  \nAgenda: \n1.	Opening en korte terugblik op het afgelopen jaar.\n2.	Mededelingen \n3.	Ingekomen stukken betreffende deze vergadering \n4.	Notulen algemene ledenvergadering 23-06-2022 – zie www.ogduiven.nl \n5.	Jaarverslag 2021 – zie www.ogduiven.nl \n6.	Financieel verslag 2021 – wordt ter vergadering gepresenteerd \n7.	Verslag kascontrolecommissie/ decharge penningmeester \n8.	Begroting 2022 – wordt ter vergadering gepresenteerd \n9.	Benoeming nieuw lid kascontrolecommissie i.v.m. het aftreden van Jeanne Peer. \n10.	Mededeling aangaande Koning der Koningen schieten d.d. 10-07-2022\n11.	Mededeling aangaande huldiging/ontvangst jubilarissen 2022\n12.	Statutenwijziging (voorstel bijgevoegd). Voor een toelichting zie www.ogduiven.nl.\nStemming kan plaatsvinden indien minimaal 2/3 van de stemgerechtigde leden aanwezig\nis. Wordt niet aan deze voorwaarde voldaan dan volgt een nieuwe ledenvergadering op\n12 mei 2022 waarin op basis van een 2/3 meerderheid van de aanwezige stemgerechtigde leden besloten wordt over deze statuten. Leden ontvangen hiervoor een nieuwe uitnodiging.\n13.	Rondvraag \nVoor de rondvraag kunnen vragen ook van tevoren worden ingeleverd bij het secretariaat. \n14.	Bestuursverkiezing \nAftredend en alle herkiesbaar: Eric Klappers\, Wilco van Brandenburg en Geert Roelofs. Het bestuur stelt tevens voor om Roeland Beumer te benoemen tot bestuurslid van onze schutterij.\nWij wijzen de leden erop dat zij zich kandidaat kunnen stellen voor een bestuursfunctie. Zij dienen hiervoor een lijst met tenminste 10 handtekeningen van stemgerechtigde leden\, voorzien van naam en adres\, te overleggen. De lijst dient tenminste 24 uur voor aanvang van de vergadering bij de voorzitter te worden ingeleverd. \n15.	Sluiting   \nIndien u prijs stelt op een papieren versie van de vergaderstukken dan kunt u deze opvragen bij het secretariaat van de schutterij. E-mail: secretariaat@ogduiven.nl. Telefoon: 0316-262720.   \nALV-2021-notulen \nUitnodiging-ALV-2022-incl-statuten-vDef-hoofdbestand-Drukker
URL:https://ogduiven.nl/evenementen/algemene-ledenvergadering/
LOCATION:Ogtent
CATEGORIES:Ledenvergadering
END:VEVENT
END:VCALENDAR