BEGIN:VCALENDAR
VERSION:2.0
PRODID:-//Schutterij Onderling Genoegen - ECPv6.15.20//NONSGML v1.0//EN
CALSCALE:GREGORIAN
METHOD:PUBLISH
X-ORIGINAL-URL:https://ogduiven.nl
X-WR-CALDESC:Evenementen voor Schutterij Onderling Genoegen
REFRESH-INTERVAL;VALUE=DURATION:PT1H
X-Robots-Tag:noindex
X-PUBLISHED-TTL:PT1H
BEGIN:VTIMEZONE
TZID:Europe/Amsterdam
BEGIN:DAYLIGHT
TZOFFSETFROM:+0100
TZOFFSETTO:+0200
TZNAME:CEST
DTSTART:20210328T010000
END:DAYLIGHT
BEGIN:STANDARD
TZOFFSETFROM:+0200
TZOFFSETTO:+0100
TZNAME:CET
DTSTART:20211031T010000
END:STANDARD
BEGIN:DAYLIGHT
TZOFFSETFROM:+0100
TZOFFSETTO:+0200
TZNAME:CEST
DTSTART:20220327T010000
END:DAYLIGHT
BEGIN:STANDARD
TZOFFSETFROM:+0200
TZOFFSETTO:+0100
TZNAME:CET
DTSTART:20221030T010000
END:STANDARD
BEGIN:DAYLIGHT
TZOFFSETFROM:+0100
TZOFFSETTO:+0200
TZNAME:CEST
DTSTART:20230326T010000
END:DAYLIGHT
BEGIN:STANDARD
TZOFFSETFROM:+0200
TZOFFSETTO:+0100
TZNAME:CET
DTSTART:20231029T010000
END:STANDARD
END:VTIMEZONE
BEGIN:VEVENT
DTSTART;VALUE=DATE:20220504
DTEND;VALUE=DATE:20220505
DTSTAMP:20260423T020541
CREATED:20220203T121005Z
LAST-MODIFIED:20220203T121005Z
UID:3173-1651622400-1651708799@ogduiven.nl
SUMMARY:Dodenherdeking
DESCRIPTION:
URL:https://ogduiven.nl/evenementen/dodenherdeking/
END:VEVENT
BEGIN:VEVENT
DTSTART;TZID=Europe/Amsterdam:20220512T200000
DTEND;TZID=Europe/Amsterdam:20220512T213000
DTSTAMP:20260423T020541
CREATED:20220430T193449Z
LAST-MODIFIED:20220430T193449Z
UID:3335-1652385600-1652391000@ogduiven.nl
SUMMARY:Algemene ledenvergadering (2)
DESCRIPTION:
URL:https://ogduiven.nl/evenementen/algemene-ledenvergadering-2/
LOCATION:OG tent
END:VEVENT
BEGIN:VEVENT
DTSTART;VALUE=DATE:20220515
DTEND;VALUE=DATE:20220516
DTSTAMP:20260423T020541
CREATED:20220203T121218Z
LAST-MODIFIED:20220203T122824Z
UID:3175-1652572800-1652659199@ogduiven.nl
SUMMARY:Kringdag de liemers (EMM Groessen)
DESCRIPTION:
URL:https://ogduiven.nl/evenementen/kringdag-de-liemers-emm-groessen/
LOCATION:EMM Groessen\, schuttersplein 1\, Groessen\, 6923 AE
CATEGORIES:concours
END:VEVENT
END:VCALENDAR