BEGIN:VCALENDAR
VERSION:2.0
PRODID:-//Schutterij Onderling Genoegen - ECPv6.15.20//NONSGML v1.0//EN
CALSCALE:GREGORIAN
METHOD:PUBLISH
X-WR-CALNAME:Schutterij Onderling Genoegen
X-ORIGINAL-URL:https://ogduiven.nl
X-WR-CALDESC:Evenementen voor Schutterij Onderling Genoegen
REFRESH-INTERVAL;VALUE=DURATION:PT1H
X-Robots-Tag:noindex
X-PUBLISHED-TTL:PT1H
BEGIN:VTIMEZONE
TZID:Europe/Amsterdam
BEGIN:DAYLIGHT
TZOFFSETFROM:+0100
TZOFFSETTO:+0200
TZNAME:CEST
DTSTART:20210328T010000
END:DAYLIGHT
BEGIN:STANDARD
TZOFFSETFROM:+0200
TZOFFSETTO:+0100
TZNAME:CET
DTSTART:20211031T010000
END:STANDARD
BEGIN:DAYLIGHT
TZOFFSETFROM:+0100
TZOFFSETTO:+0200
TZNAME:CEST
DTSTART:20220327T010000
END:DAYLIGHT
BEGIN:STANDARD
TZOFFSETFROM:+0200
TZOFFSETTO:+0100
TZNAME:CET
DTSTART:20221030T010000
END:STANDARD
BEGIN:DAYLIGHT
TZOFFSETFROM:+0100
TZOFFSETTO:+0200
TZNAME:CEST
DTSTART:20230326T010000
END:DAYLIGHT
BEGIN:STANDARD
TZOFFSETFROM:+0200
TZOFFSETTO:+0100
TZNAME:CET
DTSTART:20231029T010000
END:STANDARD
END:VTIMEZONE
BEGIN:VEVENT
DTSTART;VALUE=DATE:20220612
DTEND;VALUE=DATE:20220613
DTSTAMP:20260423T004158
CREATED:20220203T121453Z
LAST-MODIFIED:20220203T122829Z
UID:3181-1654992000-1655078399@ogduiven.nl
SUMMARY:Landjuweel EMM Giesbeek
DESCRIPTION:
URL:https://ogduiven.nl/evenementen/landjuweel-emm-giesbeek/
LOCATION:EMM Giesbeek\, Pr. Beatrixplein 58\, Giesbeek\, 6987 BW
CATEGORIES:concours
END:VEVENT
END:VCALENDAR