BEGIN:VCALENDAR
VERSION:2.0
PRODID:-//Schutterij Onderling Genoegen - ECPv6.15.20//NONSGML v1.0//EN
CALSCALE:GREGORIAN
METHOD:PUBLISH
X-ORIGINAL-URL:https://ogduiven.nl
X-WR-CALDESC:Evenementen voor Schutterij Onderling Genoegen
REFRESH-INTERVAL;VALUE=DURATION:PT1H
X-Robots-Tag:noindex
X-PUBLISHED-TTL:PT1H
BEGIN:VTIMEZONE
TZID:Europe/Amsterdam
BEGIN:DAYLIGHT
TZOFFSETFROM:+0100
TZOFFSETTO:+0200
TZNAME:CEST
DTSTART:20220327T010000
END:DAYLIGHT
BEGIN:STANDARD
TZOFFSETFROM:+0200
TZOFFSETTO:+0100
TZNAME:CET
DTSTART:20221030T010000
END:STANDARD
BEGIN:DAYLIGHT
TZOFFSETFROM:+0100
TZOFFSETTO:+0200
TZNAME:CEST
DTSTART:20230326T010000
END:DAYLIGHT
BEGIN:STANDARD
TZOFFSETFROM:+0200
TZOFFSETTO:+0100
TZNAME:CET
DTSTART:20231029T010000
END:STANDARD
BEGIN:DAYLIGHT
TZOFFSETFROM:+0100
TZOFFSETTO:+0200
TZNAME:CEST
DTSTART:20240331T010000
END:DAYLIGHT
BEGIN:STANDARD
TZOFFSETFROM:+0200
TZOFFSETTO:+0100
TZNAME:CET
DTSTART:20241027T010000
END:STANDARD
END:VTIMEZONE
BEGIN:VEVENT
DTSTART;VALUE=DATE:20230311
DTEND;VALUE=DATE:20230312
DTSTAMP:20260422T110410
CREATED:20221208T083014Z
LAST-MODIFIED:20221208T085326Z
UID:3527-1678492800-1678579199@ogduiven.nl
SUMMARY:Join LHD & OG dag
DESCRIPTION:
URL:https://ogduiven.nl/evenementen/join-lhd-og-dag/
LOCATION:Ogtent
CATEGORIES:Evenement
END:VEVENT
BEGIN:VEVENT
DTSTART;VALUE=DATE:20230311
DTEND;VALUE=DATE:20230312
DTSTAMP:20260422T110410
CREATED:20230704T203103Z
LAST-MODIFIED:20230704T203103Z
UID:3677-1678492800-1678579199@ogduiven.nl
SUMMARY:Join! LHD & OG
DESCRIPTION:
URL:https://ogduiven.nl/evenementen/join-lhd-og/
LOCATION:Ogtent
END:VEVENT
BEGIN:VEVENT
DTSTART;TZID=Europe/Amsterdam:20230325T193000
DTEND;TZID=Europe/Amsterdam:20230326T000000
DTSTAMP:20260422T110410
CREATED:20221208T083203Z
LAST-MODIFIED:20230309T172449Z
UID:3529-1679772600-1679788800@ogduiven.nl
SUMMARY:Feestavond GKVI
DESCRIPTION:
URL:https://ogduiven.nl/evenementen/feestavond-gkvi/
LOCATION:Triominos\, Eltensestraat 4\, Duiven\, 6922 JB\, Nederland
CATEGORIES:Feest
END:VEVENT
BEGIN:VEVENT
DTSTART;TZID=Europe/Amsterdam:20230326T083000
DTEND;TZID=Europe/Amsterdam:20230326T180000
DTSTAMP:20260422T110410
CREATED:20230309T172948Z
LAST-MODIFIED:20230309T173351Z
UID:3634-1679819400-1679853600@ogduiven.nl
SUMMARY:GKVI Gelders Kampioenschap Vendelen Indoor 2023
DESCRIPTION:Sporthal Endesprong\n8.30 uur Ontvangst deelnemende vendeliers.\n10.00 uur Start kinderdorp met diverse activiteiten.\n11.00 uur Start muzikaal feest met Duo Jersey.\nToegang voor deelnemers vendelwedstrijden en bezoekers.\n17.15 uur Einde muzikaal feest en kinderdorp. \n  \nSporthal Spoorzone\nOchtendprogramma\n8.30 uur Ontvangst genodigden.\n9.00 uur Commandantenbespreking.\n9.15 uur Openingsceremonie met medewerking\nGilde st. Remigius en Liemers Harmonie Duiven.\n9.50 uur Start vendelwedstrijden.\n12.00 uur Einde vendelwedstrijden. \nPauzeprogramma\n12.00 uur Start roofvogelshow.\n13.00 uur Einde roofvogelshow. \nMiddagprogramma\n13.00 uur Commandantenbespreking.\n13.30 uur Start vendelwedstrijden.\n16.30 uur Einde vendelwedstrijden.\n17.30 uur Prijsuitreiking.
URL:https://ogduiven.nl/evenementen/gkvi-gelders-kampioenschap-vendelen-indoor-2023/
LOCATION:Triominos\, Eltensestraat 4\, Duiven\, 6922 JB\, Nederland
END:VEVENT
END:VCALENDAR